BEGIN:VCALENDAR
VERSION:2.0
PRODID:-//Município de Ourém - ECPv5.3.2.1//NONSGML v1.0//EN
CALSCALE:GREGORIAN
METHOD:PUBLISH
X-WR-CALNAME:Município de Ourém
X-ORIGINAL-URL:https://www.ourem.pt
X-WR-CALDESC:Events for Município de Ourém
BEGIN:VTIMEZONE
TZID:Europe/Lisbon
BEGIN:DAYLIGHT
TZOFFSETFROM:+0000
TZOFFSETTO:+0100
TZNAME:WEST
DTSTART:20240331T010000
END:DAYLIGHT
BEGIN:STANDARD
TZOFFSETFROM:+0100
TZOFFSETTO:+0000
TZNAME:WET
DTSTART:20241027T010000
END:STANDARD
END:VTIMEZONE
BEGIN:VEVENT
DTSTART;TZID=Europe/Lisbon:20241002T090000
DTEND;TZID=Europe/Lisbon:20241030T180000
DTSTAMP:20260422T114729
CREATED:20241015T085959Z
LAST-MODIFIED:20241015T085959Z
UID:64004-1727859600-1730311200@www.ourem.pt
SUMMARY:EXPOSIÇÃO “MONUMENTO NATURAL DAS PEGADAS DOS DINOSSÁURIOS”
DESCRIPTION:02 A 30 OUT.\nBIBLIOTECA MUNICIPAL DE OURÉM\n2.ª A 6.ª FEIRA: 09:00H ÀS 18:00H | SÁBADO: 09:30H ÀS 13:00H \nA exposição “Monumento Natural das Pegadas dos Dinossáurios” traça uma retrospetiva da evolução do monumento desde a sua descoberta\, em 1994\, ainda como pedreira do Galinha até aos dias de hoje.\nInserido no Parque Natural das Serras de Aire e Candeeiros\, este monumento natural protege um importante registo icnofóssil (fóssil da atividade biológica) do período Jurássico\, a jazida paleontológica da Pedreira do Galinha\, um dos valores paleontológicos mais importantes em Portugal. \nAcesso gratuito\nPúblico: geral
URL:https://www.ourem.pt/evento/exposicao-monumento-natural-das-pegadas-dos-dinossaurios/
ATTACH;FMTTYPE=image/jpeg:https://www.ourem.pt/wp-content/uploads/2024/10/2-Exposicao.jpg
END:VEVENT
END:VCALENDAR